BEGIN:VCALENDAR
VERSION:2.0
PRODID:-//The Geyser Observation &amp; Study Association - ECPv6.15.12.2//NONSGML v1.0//EN
CALSCALE:GREGORIAN
METHOD:PUBLISH
X-ORIGINAL-URL:https://gosa.org
X-WR-CALDESC:Events for The Geyser Observation &amp; Study Association
REFRESH-INTERVAL;VALUE=DURATION:PT1H
X-Robots-Tag:noindex
X-PUBLISHED-TTL:PT1H
BEGIN:VTIMEZONE
TZID:America/Denver
BEGIN:DAYLIGHT
TZOFFSETFROM:-0700
TZOFFSETTO:-0600
TZNAME:MDT
DTSTART:20240310T090000
END:DAYLIGHT
BEGIN:STANDARD
TZOFFSETFROM:-0600
TZOFFSETTO:-0700
TZNAME:MST
DTSTART:20241103T080000
END:STANDARD
BEGIN:DAYLIGHT
TZOFFSETFROM:-0700
TZOFFSETTO:-0600
TZNAME:MDT
DTSTART:20250309T090000
END:DAYLIGHT
BEGIN:STANDARD
TZOFFSETFROM:-0600
TZOFFSETTO:-0700
TZNAME:MST
DTSTART:20251102T080000
END:STANDARD
BEGIN:DAYLIGHT
TZOFFSETFROM:-0700
TZOFFSETTO:-0600
TZNAME:MDT
DTSTART:20260308T090000
END:DAYLIGHT
BEGIN:STANDARD
TZOFFSETFROM:-0600
TZOFFSETTO:-0700
TZNAME:MST
DTSTART:20261101T080000
END:STANDARD
END:VTIMEZONE
BEGIN:VEVENT
DTSTART;TZID=America/Denver:20250325T190000
DTEND;TZID=America/Denver:20250325T200000
DTSTAMP:20260422T023821
CREATED:20250304T142102Z
LAST-MODIFIED:20250304T142832Z
UID:2338-1742929200-1742932800@gosa.org
SUMMARY:GOSA Presentation Series - Fountain Stall Mode Intervals: History and What to Watch For
DESCRIPTION:This presentation will address the historical background of “stall” intervals at Fountain Geyser and answer questions regarding the behavior of the major members of the Fountain Group during these events.
URL:https://gosa.org/event/gosa-presentation-series-fountain-stall-mode-intervals-history-and-what-to-watch-for/
LOCATION:YouTube Live
END:VEVENT
END:VCALENDAR