BEGIN:VCALENDAR
VERSION:2.0
PRODID:-//The Geyser Observation &amp; Study Association - ECPv6.15.12.2//NONSGML v1.0//EN
CALSCALE:GREGORIAN
METHOD:PUBLISH
X-ORIGINAL-URL:https://gosa.org
X-WR-CALDESC:Events for The Geyser Observation &amp; Study Association
REFRESH-INTERVAL;VALUE=DURATION:PT1H
X-Robots-Tag:noindex
X-PUBLISHED-TTL:PT1H
BEGIN:VTIMEZONE
TZID:America/Denver
BEGIN:DAYLIGHT
TZOFFSETFROM:-0700
TZOFFSETTO:-0600
TZNAME:MDT
DTSTART:20240310T090000
END:DAYLIGHT
BEGIN:STANDARD
TZOFFSETFROM:-0600
TZOFFSETTO:-0700
TZNAME:MST
DTSTART:20241103T080000
END:STANDARD
BEGIN:DAYLIGHT
TZOFFSETFROM:-0700
TZOFFSETTO:-0600
TZNAME:MDT
DTSTART:20250309T090000
END:DAYLIGHT
BEGIN:STANDARD
TZOFFSETFROM:-0600
TZOFFSETTO:-0700
TZNAME:MST
DTSTART:20251102T080000
END:STANDARD
BEGIN:DAYLIGHT
TZOFFSETFROM:-0700
TZOFFSETTO:-0600
TZNAME:MDT
DTSTART:20260308T090000
END:DAYLIGHT
BEGIN:STANDARD
TZOFFSETFROM:-0600
TZOFFSETTO:-0700
TZNAME:MST
DTSTART:20261101T080000
END:STANDARD
END:VTIMEZONE
BEGIN:VEVENT
DTSTART;TZID=America/Denver:20250304T190000
DTEND;TZID=America/Denver:20250304T200000
DTSTAMP:20260422T025104
CREATED:20250304T135857Z
LAST-MODIFIED:20250304T141048Z
UID:2325-1741114800-1741118400@gosa.org
SUMMARY:GOSA Presentation Series - Observational and Statistical Analysis of Beehive Geyser’s 2024 Activity
DESCRIPTION:This presentation explores the eruptive and behavioral observations of Beehive Geyser during 2024\, providing statistical and observational insight into key factors\, including interval\, duration\, indicator activity\, progression into eruptions\, impact of external conditions\, and correlations with nearby geysers.
URL:https://gosa.org/event/gosa-presentation-series-observational-and-statistical-analysis-of-beehive-geysers-2024-activity/
LOCATION:YouTube Live
END:VEVENT
END:VCALENDAR